BEGIN:VCALENDAR
VERSION:2.0
PRODID:events.glasgow.social boardgames
BEGIN:VEVENT
UID:events.glasgow.social/qW38D88qOYcL
DTSTART:20230718T190000
SEQUENCE:0
TRANSP:OPAQUE
URL:https://events.glasgow.social/2023/07/board-game-evening-qW38D88qOYcL
LOCATION:Curlers Rest\, 256-260 Byres Road\, Glasgow
SUMMARY:Board Game Evening
CLASS:PUBLIC
DESCRIPTION:I'm going to be running a Board game evening at Curlers rest!\n
 I will bring along a selection of games\, if you have any you would like t
 o see\, put them in the comments. You can see what games I own by clicking
  here\nFeel free to bring along your own games\, the more the merrier!\nHo
 pe to see you there!\n\nhttps://events.glasgow.social/2023/07/board-game-e
 vening-qW38D88qOYcL
X-MICROSOFT-CDO-BUSYSTATUS:FREE
X-MICROSOFT-CDO-INTENDEDSTATUS:FREE
DTSTAMP:20230711T235408Z
CREATED:20230711T235408Z
LAST-MODIFIED:20230711T235408Z
END:VEVENT
END:VCALENDAR