BEGIN:VCALENDAR
VERSION:2.0
PRODID:events.glasgow.social cyber
BEGIN:VEVENT
UID:events.glasgow.social/AA45ntihiZ8A
DTSTART:20230831T110000
SEQUENCE:0
TRANSP:OPAQUE
DTEND:20230831T133000
URL:https://events.glasgow.social/2023/08/cyber-security-lunch-learn-AA45nt
 ihiZ8A
LOCATION:Corinthian\, 191 Ingram Street\, Glasgow
SUMMARY:Cyber Security Lunch & Learn
CLASS:PUBLIC
DESCRIPTION:Confused by cyber? Not sure how secure your business is? Strugg
 ling to sleep at night?!\n\nRelax. We've got you.\n\nWe get that cyber is 
 the hottest buzzword in technology right now. But what does it even mean? 
 How do you know how good (or bad) your security is? And how do you even ge
 t started?!\n\nIn little over 2 hours\, you'll get the '101' on cyber secu
 rity. You'll walk out feeling empowered to be able to have a proper conver
 sation about cyber with your IT provider\, as well as others in your busin
 ess.\n\nYou'll learn all about the common myths around cyber - which are o
 ften the main blockers preventing business from taking security seriously.
 \n\nYou'll also be introduced to the UK Government's Cyber Essentials sche
 me - often the first step on the way to a safe\, more resilient business.\
 n\nAnd who will reign champion in our Password Quiz?\n\nUltimately our goa
 l is to help you get started on your cyber journey to a safer\, better pro
 tected business.\n\nhttps://www.eventbrite.com/e/cyber-security-lunch-lear
 n-glasgow-tickets-648004437717\n\nhttps://events.glasgow.social/2023/08/cy
 ber-security-lunch-learn-AA45ntihiZ8A
X-MICROSOFT-CDO-BUSYSTATUS:FREE
X-MICROSOFT-CDO-INTENDEDSTATUS:FREE
DTSTAMP:20230816T120202Z
CREATED:20230816T120202Z
LAST-MODIFIED:20230816T120202Z
END:VEVENT
END:VCALENDAR