BEGIN:VCALENDAR
VERSION:2.0
PRODID:events.glasgow.social gaming
BEGIN:VEVENT
UID:events.glasgow.social/PsQrVPhATQnk
DTSTART:20230914T190000
SEQUENCE:0
TRANSP:OPAQUE
DTEND:20230914T210000
URL:https://events.glasgow.social/2023/09/videogames-glasgow-pub-night-PsQr
 VPhATQnk
LOCATION:13th Note\, 50-60 King Street\, Glasgow
SUMMARY:Videogames Glasgow Pub Night
CLASS:PUBLIC
DESCRIPTION:Monthly meetup for game developers\, streamers\, journalists\, 
 marketeers\, and anyone else interested in or working in the games industr
 y.\n\nCome along if you want to talk videogames and game development\, if 
 you need to test out a game you're working on or want to give and receive 
 advice on all things related to the making and appreciation of videogames.
  This is a friendly and inclusive space with the aim of creating a product
 ive community of videogame people in Glasgow.\n\nhttps://www.meetup.com/vi
 deogames-glasgow/events/mbgnctyfcmbsb/\n\nhttps://events.glasgow.social/20
 23/09/videogames-glasgow-pub-night-PsQrVPhATQnk
X-MICROSOFT-CDO-BUSYSTATUS:FREE
X-MICROSOFT-CDO-INTENDEDSTATUS:FREE
DTSTAMP:20230817T150719Z
CREATED:20230817T150719Z
LAST-MODIFIED:20230817T150719Z
END:VEVENT
BEGIN:VEVENT
UID:events.glasgow.social/3JCK3qIEyzxM
DTSTART:20230817T183000
SEQUENCE:0
TRANSP:OPAQUE
URL:https://events.glasgow.social/2023/08/glasgow-games-soapbox-3JCK3qIEyzx
 M
LOCATION:Barclays Eagle Labs\, 58 Kingston Street\, Glasgow
SUMMARY:Glasgow Games Soapbox
CLASS:PUBLIC
DESCRIPTION:A short evening of talks about games and game development. Comi
 ng from the indie and alternative side of the medium.\n\nWe will have a sm
 all selection of speakers from in and out of the games industry sharing th
 eir wisdom. Expect talks to be around 30 minutes long.\n\nhttps://www.meet
 up.com/videogames-glasgow/events/294739358/\n\nhttps://events.glasgow.soci
 al/2023/08/glasgow-games-soapbox-3JCK3qIEyzxM
X-MICROSOFT-CDO-BUSYSTATUS:FREE
X-MICROSOFT-CDO-INTENDEDSTATUS:FREE
DTSTAMP:20230815T121956Z
CREATED:20230815T121956Z
LAST-MODIFIED:20230815T121956Z
END:VEVENT
END:VCALENDAR