BEGIN:VCALENDAR
VERSION:2.0
PRODID:events.glasgow.social maker
BEGIN:VEVENT
UID:events.glasgow.social/o1qaT2uDyK1w
DTSTART:20230830T193000
SEQUENCE:0
TRANSP:OPAQUE
URL:https://events.glasgow.social/2023/08/glasgow-hackerspace-meetup-o1qaT2
 uDyK1w
LOCATION:The Raven\, 81-85 Renfield Street\, Glasgow
SUMMARY:Glasgow Hackerspace Meetup
CLASS:PUBLIC
DESCRIPTION:Come along and get involved in the planning of opening a new ha
 ckerspace in Glasgow.\n\nhttps://wiki.glasgow.social/2023_hackerspace_meet
 up\n\nhttps://events.glasgow.social/2023/08/glasgow-hackerspace-meetup-o1q
 aT2uDyK1w
X-MICROSOFT-CDO-BUSYSTATUS:FREE
X-MICROSOFT-CDO-INTENDEDSTATUS:FREE
DTSTAMP:20230820T153221Z
CREATED:20230820T153221Z
LAST-MODIFIED:20230820T153221Z
END:VEVENT
END:VCALENDAR