BEGIN:VCALENDAR
VERSION:2.0
PRODID:events.glasgow.social politics
BEGIN:VEVENT
UID:events.glasgow.social/aqSXUCj1Cvxu
DTSTART:20230718T191500
SEQUENCE:0
TRANSP:OPAQUE
DTEND:20230718T210000
URL:https://events.glasgow.social/2023/07/glasgow-skeptics-how-to-rig-a-gen
 eral-election-aqSXUCj1Cvxu
LOCATION:The Admiral Woods Bar\, 29 Waterloo Street\, Glasgow
SUMMARY:Glasgow Skeptics: How to rig a general election
CLASS:PUBLIC
DESCRIPTION:Stand-asides\, vote-splitting\, and tactical voting in the UKs 
 last FPTP/first past the post election. About the speaker: Ewan Hoyle has 
 been a regular parliamentary and council candidate for the Liberal Democra
 ts\, but is now the leader of Volt Scotland\, part of the pan-European\, a
 nti-populist political organisation\, Volt Europa. He has an MSc in Neuros
 cience from Kings College London. Point of note: Glasgow Skeptics do not e
 ndorse any political party\, and it is somewhat unusual for us to have a r
 epresentative…\n\nhttp://glasgowskeptics.com/events\n\nhttps://events.gl
 asgow.social/2023/07/glasgow-skeptics-how-to-rig-a-general-election-aqSXUC
 j1Cvxu
X-MICROSOFT-CDO-BUSYSTATUS:FREE
X-MICROSOFT-CDO-INTENDEDSTATUS:FREE
DTSTAMP:20230717T091654Z
CREATED:20230717T091654Z
LAST-MODIFIED:20230717T091654Z
END:VEVENT
END:VCALENDAR