BEGIN:VCALENDAR
VERSION:2.0
PRODID:events.glasgow.social science
BEGIN:VEVENT
UID:events.glasgow.social/kCSiFdteGa0a
DTSTART:20240124T193000
SEQUENCE:0
TRANSP:OPAQUE
DTEND:20240124T213000
URL:https://events.glasgow.social/2024/01/royal-philosophical-society-steph
 en-venables-everest-east-side-story-kCSiFdteGa0a
LOCATION:Sir Charles Wilson Building\, 1 University Avenue\, Glasgow
SUMMARY:Royal Philosophical Society: Stephen Venables Everest East Side Sto
 ry
CLASS:PUBLIC
DESCRIPTION:The Royal Philosophical Society of Glasgow was founded in 1802\
 , when the term ‘philosophy’ meant knowledge in the broadest sense. Th
 e Society provides stimulating lectures and discussion for members on a gr
 eat diversity of topics.\n\nhttps://www.royalphil.org/event/stephen-venabl
 eseverest-east-side-story/?event_date=2024-01-24\n\nhttps://events.glasgow
 .social/2024/01/royal-philosophical-society-stephen-venables-everest-east-
 side-story-kCSiFdteGa0a
X-MICROSOFT-CDO-BUSYSTATUS:FREE
X-MICROSOFT-CDO-INTENDEDSTATUS:FREE
DTSTAMP:20230810T091156Z
CREATED:20230810T091156Z
LAST-MODIFIED:20230810T091156Z
END:VEVENT
BEGIN:VEVENT
UID:events.glasgow.social/IdiTmH20hzVM
DTSTART:20231213T193000
SEQUENCE:0
TRANSP:OPAQUE
DTEND:20231213T213000
URL:https://events.glasgow.social/2023/12/royal-philosophical-society-does-
 god-play-dice-with-the-world-kelvin-lecture-IdiTmH20hzVM
LOCATION:Sir Charles Wilson Building\, 1 University Avenue\, Glasgow
SUMMARY:Royal Philosophical Society: Does God play dice with the world? –
  Kelvin Lecture
CLASS:PUBLIC
DESCRIPTION:The Royal Philosophical Society of Glasgow was founded in 1802\
 , when the term ‘philosophy’ meant knowledge in the broadest sense. Th
 e Society provides stimulating lectures and discussion for members on a gr
 eat diversity of topics.\n\nhttps://www.royalphil.org/event/professor-mile
 s-padgetdoes-god-play-dice-with-the-world-kelvin-lecture/?event_date=2023-
 12-13\n\nhttps://events.glasgow.social/2023/12/royal-philosophical-society
 -does-god-play-dice-with-the-world-kelvin-lecture-IdiTmH20hzVM
X-MICROSOFT-CDO-BUSYSTATUS:FREE
X-MICROSOFT-CDO-INTENDEDSTATUS:FREE
DTSTAMP:20230810T091039Z
CREATED:20230810T091039Z
LAST-MODIFIED:20230810T091039Z
END:VEVENT
BEGIN:VEVENT
UID:events.glasgow.social/Jw4BWQ50qZ5I
DTSTART:20231129T193000
SEQUENCE:0
TRANSP:OPAQUE
DTEND:20231129T213000
URL:https://events.glasgow.social/2023/11/royal-philosophical-society-from-
 the-pin-factory-to-the-iphone-the-complete-history-of-capitalism-the-adam-
 smith-lecture-Jw4BWQ50qZ5I
LOCATION:Sir Charles Wilson Building\, 1 University Avenue\, Glasgow
SUMMARY:Royal Philosophical Society: From the pin factory to the iPhone –
  the complete history of capitalism – The Adam Smith Lecture
CLASS:PUBLIC
DESCRIPTION:The Royal Philosophical Society of Glasgow was founded in 1802\
 , when the term ‘philosophy’ meant knowledge in the broadest sense. Th
 e Society provides stimulating lectures and discussion for members on a gr
 eat diversity of topics.\n\nhttps://www.royalphil.org/event/sir-john-kayth
 e-adam-smith-lecture/?event_date=2023-11-29\n\nhttps://events.glasgow.soci
 al/2023/11/royal-philosophical-society-from-the-pin-factory-to-the-iphone-
 the-complete-history-of-capitalism-the-adam-smith-lecture-Jw4BWQ50qZ5I
X-MICROSOFT-CDO-BUSYSTATUS:FREE
X-MICROSOFT-CDO-INTENDEDSTATUS:FREE
DTSTAMP:20230810T090913Z
CREATED:20230810T090913Z
LAST-MODIFIED:20230810T090913Z
END:VEVENT
BEGIN:VEVENT
UID:events.glasgow.social/bxJEZ0rebdVE
DTSTART:20231115T193000
SEQUENCE:0
TRANSP:OPAQUE
DTEND:20231115T213000
URL:https://events.glasgow.social/2023/11/royal-philosophical-society-free-
 for-all-why-the-nhs-is-worth-saving-bxJEZ0rebdVE
LOCATION:Sir Charles Wilson Building\, 1 University Avenue\, Glasgow
SUMMARY:Royal Philosophical Society: Free For All: Why the NHS is Worth sav
 ing
CLASS:PUBLIC
DESCRIPTION:The Royal Philosophical Society of Glasgow was founded in 1802\
 , when the term ‘philosophy’ meant knowledge in the broadest sense. Th
 e Society provides stimulating lectures and discussion for members on a gr
 eat diversity of topics.\n\nhttps://www.royalphil.org/event/dr-gavin-franc
 isfree-for-all-why-the-nhs-is-worth-saving/?event_date=2023-11-15\n\nhttps
 ://events.glasgow.social/2023/11/royal-philosophical-society-free-for-all-
 why-the-nhs-is-worth-saving-bxJEZ0rebdVE
X-MICROSOFT-CDO-BUSYSTATUS:FREE
X-MICROSOFT-CDO-INTENDEDSTATUS:FREE
DTSTAMP:20230810T090739Z
CREATED:20230810T090739Z
LAST-MODIFIED:20230810T090739Z
END:VEVENT
BEGIN:VEVENT
UID:events.glasgow.social/cYTXMharSnST
DTSTART:20231101T193000
SEQUENCE:0
TRANSP:OPAQUE
DTEND:20231101T213000
URL:https://events.glasgow.social/2023/11/royal-philosophical-society-chang
 ing-places-migration-and-climate-change-cYTXMharSnST
LOCATION:Sir Charles Wilson Building\, 1 University Avenue\, Glasgow
SUMMARY:Royal Philosophical Society: Changing Places: Migration and Climate
  Change
CLASS:PUBLIC
DESCRIPTION:The Royal Philosophical Society of Glasgow was founded in 1802\
 , when the term ‘philosophy’ meant knowledge in the broadest sense. Th
 e Society provides stimulating lectures and discussion for members on a gr
 eat diversity of topics.\n\nhttps://www.royalphil.org/event/professor-neil
 -adgermigration-and-climate-change/?event_date=2023-11-01\n\nhttps://event
 s.glasgow.social/2023/11/royal-philosophical-society-changing-places-migra
 tion-and-climate-change-cYTXMharSnST
X-MICROSOFT-CDO-BUSYSTATUS:FREE
X-MICROSOFT-CDO-INTENDEDSTATUS:FREE
DTSTAMP:20230810T090430Z
CREATED:20230810T090430Z
LAST-MODIFIED:20230810T090430Z
END:VEVENT
BEGIN:VEVENT
UID:events.glasgow.social/ebYtAAMkW0wa
DTSTART:20231018T193000
SEQUENCE:0
TRANSP:OPAQUE
DTEND:20231018T213000
URL:https://events.glasgow.social/2023/10/royal-philosophical-society-of-gl
 asgow-the-great-auk-greed-death-and-regret-ebYtAAMkW0wa
LOCATION:Sir Charles Wilson Building\, 1 University Avenue\, Glasgow
SUMMARY:Royal Philosophical Society of Glasgow: The Great Auk: greed\, deat
 h and regret
CLASS:PUBLIC
DESCRIPTION:The Royal Philosophical Society of Glasgow was founded in 1802\
 , when the term ‘philosophy’ meant knowledge in the broadest sense. Th
 e Society provides stimulating lectures and discussion for members on a gr
 eat diversity of topics.\n\nhttps://www.royalphil.org/event/professor-tim-
 birkheadthe-great-auk-greed-death-and-regret/?event_date=2023-10-18\n\nhtt
 ps://events.glasgow.social/2023/10/royal-philosophical-society-of-glasgow-
 the-great-auk-greed-death-and-regret-ebYtAAMkW0wa
X-MICROSOFT-CDO-BUSYSTATUS:FREE
X-MICROSOFT-CDO-INTENDEDSTATUS:FREE
DTSTAMP:20230810T090026Z
CREATED:20230810T090026Z
LAST-MODIFIED:20230810T090026Z
END:VEVENT
BEGIN:VEVENT
UID:events.glasgow.social/kogubvIUL0oX
DTSTART:20231004T193000
SEQUENCE:0
TRANSP:OPAQUE
DTEND:20231004T213000
URL:https://events.glasgow.social/2023/10/royal-philosophical-society-the-r
 ise-and-fall-of-the-dinosaurs-and-the-rise-of-the-mammals-kogubvIUL0oX
LOCATION:Sir Charles Wilson Building\, 1 University Ave\, Glasgow
SUMMARY:Royal Philosophical Society: The Rise and Fall of the Dinosaurs….
  and The Rise of the Mammals
CLASS:PUBLIC
DESCRIPTION:The Royal Philosophical Society of Glasgow was founded in 1802\
 , when the term ‘philosophy’ meant knowledge in the broadest sense. Th
 e Society provides stimulating lectures and discussion for members on a gr
 eat diversity of topics.\n\nhttps://www.royalphil.org/event/professor-stev
 e-brusattethe-fall-of-dinosaurs-and-rise-of-mammals/?event_date=2023-10-04
 \n\nhttps://events.glasgow.social/2023/10/royal-philosophical-society-the-
 rise-and-fall-of-the-dinosaurs-and-the-rise-of-the-mammals-kogubvIUL0oX
X-MICROSOFT-CDO-BUSYSTATUS:FREE
X-MICROSOFT-CDO-INTENDEDSTATUS:FREE
DTSTAMP:20230810T085835Z
CREATED:20230810T085835Z
LAST-MODIFIED:20230810T090312Z
END:VEVENT
BEGIN:VEVENT
UID:events.glasgow.social/9czhectlAtAL
DTSTART:20230815T191500
SEQUENCE:0
TRANSP:OPAQUE
URL:https://events.glasgow.social/2023/08/glasgow-skeptics-an-open-debate-a
 bout-artificial-intelligence-9czhectlAtAL
LOCATION:The Admiral Woods\, 29 Waterloo Street\, Glasgow
SUMMARY:Glasgow Skeptics: An Open Debate about Artificial Intelligence
CLASS:PUBLIC
DESCRIPTION:An introduction to AI in general and Deep Learning by example\,
  showing how AI is is used today. The talk will also clarify some myths ar
 ound the topic\, and open up to floor to discussion about risks\, benefits
 \, ethics\, and other associated topics.\n\nhttps://www.meetup.com/glasgow
 -skeptics/events/294945402/\n\nhttps://events.glasgow.social/2023/08/glasg
 ow-skeptics-an-open-debate-about-artificial-intelligence-9czhectlAtAL
X-MICROSOFT-CDO-BUSYSTATUS:FREE
X-MICROSOFT-CDO-INTENDEDSTATUS:FREE
DTSTAMP:20230815T121813Z
CREATED:20230815T121813Z
LAST-MODIFIED:20230815T121813Z
END:VEVENT
END:VCALENDAR