BEGIN:VCALENDAR
VERSION:2.0
PRODID:events.glasgow.social scifi
BEGIN:VEVENT
UID:events.glasgow.social/GlN1WQmkROhd
DTSTART:20230723T150000
SEQUENCE:0
TRANSP:OPAQUE
URL:https://events.glasgow.social/2023/07/wifi-wars-comedy-show-GlN1WQmkROh
 d
LOCATION:The Stand Comedy Club\, 333 Woodlands Road\, Glasgow
SUMMARY:Wifi Wars Comedy Show
CLASS:PUBLIC
DESCRIPTION:WiFi Wars returns with the live comedy game show where you all 
 play along! Log in with your smartphone or tablet and compete in a range o
 f games\, puzzles and quizzes to win the show\, and prizes!\nHosted by com
 edian Steve McNeil (team captain on UK TV's hit comedy/gaming show \"Dara 
 O’Briain’s Go 8 Bit\") and aided by Guinness World-Record-Breaking tec
 h whizz\, the award-winning Rob Sedgebeer!\n\nTickets are £10\, available
  here: https://www.thestand.co.uk/performance/15037/wifi-wars/20230723/gla
 sgow\n\nMeet beforehand in The Old Schoolhouse for an afternoon pint\, the
 n we'll head over and see the show.\n\nhttps://www.meetup.com/the-glasgow-
 geeks/events/294280913/\n\nhttps://events.glasgow.social/2023/07/wifi-wars
 -comedy-show-GlN1WQmkROhd
X-MICROSOFT-CDO-BUSYSTATUS:FREE
X-MICROSOFT-CDO-INTENDEDSTATUS:FREE
DTSTAMP:20230711T235543Z
CREATED:20230711T235543Z
LAST-MODIFIED:20230711T235543Z
END:VEVENT
BEGIN:VEVENT
UID:events.glasgow.social/tCkrKrD1lmjn
DTSTART:20230719T183000
SEQUENCE:0
TRANSP:OPAQUE
URL:https://events.glasgow.social/2023/07/sci-fi-book-group-tCkrKrD1lmjn
LOCATION:Bon Accord\, 153 North Street\, Glasgow
SUMMARY:Sci-fi Book Group
CLASS:PUBLIC
DESCRIPTION:This month we voted to read any science fiction written by auth
 ors who are also scientists.\n\nSome examples:\n\nDavid Brin\nCarl Sagan\n
 Fred Hoyle\nGregory Benford\nRobert L Forward\n\n\nThe topic for our next 
 book group might be first encounters\, robots\, etc - we'll decide on the 
 night depending on people's interests. Feel free to submit a suggestion in
  the comments below.\n\nLooking forward to some interesting discussions!\n
 \nAs always\, you can join our chat room on matrix at #bookgroup:glasgow.s
 ocial (if you don't already have access to matrix\, you can sign up at htt
 ps://glasgow.social/matrix).\n\nhttps://www.meetup.com/the-glasgow-geeks/e
 vents/294335809/\n\nhttps://events.glasgow.social/2023/07/sci-fi-book-grou
 p-tCkrKrD1lmjn
X-MICROSOFT-CDO-BUSYSTATUS:FREE
X-MICROSOFT-CDO-INTENDEDSTATUS:FREE
DTSTAMP:20230711T235229Z
CREATED:20230711T235229Z
LAST-MODIFIED:20230712T092414Z
END:VEVENT
END:VCALENDAR