BEGIN:VCALENDAR
VERSION:2.0
PRODID:events.glasgow.social tech
BEGIN:VEVENT
UID:events.glasgow.social/R1GBiaj3NIs4
DTSTART:20230907T090000
SEQUENCE:0
TRANSP:OPAQUE
DTEND:20230907T164500
URL:https://events.glasgow.social/2023/09/foss4g-uk-local-2023-glasgow-free
 -and-open-source-software-for-geospatial--R1GBiaj3NIs4
LOCATION:Senate Room\, University of Glasgow\, University Avenue\, Glasgow
SUMMARY:FOSS4G:UK Local 2023 - Glasgow (free and open source software for g
 eospatial)
CLASS:PUBLIC
DESCRIPTION:OSGeo:UK will be bringing together all those interested in free
  and open source software for geospatial (FOSS4G) for this fantastic event
 . If you use\, promote\, develop or want to learn about open source tools 
 and open data for geospatial\, then this conference is for you! A whole da
 y of talks\, workshops and networking across the UK and Ireland.\n\nhttps:
 //uk.osgeo.org/foss4guklocal2023/glasgow.html\n\nhttps://events.glasgow.so
 cial/2023/09/foss4g-uk-local-2023-glasgow-free-and-open-source-software-fo
 r-geospatial--R1GBiaj3NIs4
X-MICROSOFT-CDO-BUSYSTATUS:FREE
X-MICROSOFT-CDO-INTENDEDSTATUS:FREE
DTSTAMP:20230824T102538Z
CREATED:20230824T102538Z
LAST-MODIFIED:20230824T102538Z
END:VEVENT
BEGIN:VEVENT
UID:events.glasgow.social/pYTZPU1A1oxr
DTSTART:20230831T190000
SEQUENCE:0
TRANSP:OPAQUE
URL:https://events.glasgow.social/2023/08/scottish-linux-users-group-planni
 ng-meeting-pYTZPU1A1oxr
LOCATION:The Electron Club\, 2nd Floor\, CCA\, 350 Sauchiehall Street\, Gla
 sgow
SUMMARY:Scottish Linux Users Group - Planning Meeting
CLASS:PUBLIC
DESCRIPTION:Planning Meeting For September LUG Day 31 August 2023\n\nThis m
 onth we will be planning the September LUG Day:\n\nConfirm date in Septemb
 er for Linux Day\nConfirm venue (ask Neil \;~))\n\n\nAgenda:\n\n19:00 Meet
  at the Electron Club\n19:15 Planning meeting\n19:45 Any other business\n2
 0:00 retire to the Henglers Circus\n\n\nhttps://www.scotlug.org.uk/meeting
 s/2023/august.html\n\nhttps://events.glasgow.social/2023/08/scottish-linux
 -users-group-planning-meeting-pYTZPU1A1oxr
X-MICROSOFT-CDO-BUSYSTATUS:FREE
X-MICROSOFT-CDO-INTENDEDSTATUS:FREE
DTSTAMP:20230711T233118Z
CREATED:20230711T233118Z
LAST-MODIFIED:20230711T233118Z
END:VEVENT
BEGIN:VEVENT
UID:events.glasgow.social/pa60bpnh4mwj
DTSTART:20230823T190000
SEQUENCE:0
TRANSP:OPAQUE
DTEND:20230823T210000
URL:https://events.glasgow.social/2023/08/southside-games-festival-pa60bpnh
 4mwj
LOCATION:The Glad Cafe\, 1006A Pollokshaws Road\, Glasgow
SUMMARY:Southside Games Festival
CLASS:PUBLIC
DESCRIPTION:The Southside Games Festival is coming back in 2023! This years
 ' selection of games is the best and most brilliant yet. Fantastic diamond
 s\, from near and far\, waiting to capture your eyes\, ears\, and fingers.
 \n\nThere will be a mix of videogames to play and talks from local develop
 ers throughout the evening. Full lineup to be released soon!\n\nhttps://ww
 w.meetup.com/the-glasgow-geeks/events/294418180/\n\nhttps://events.glasgow
 .social/2023/08/southside-games-festival-pa60bpnh4mwj
X-MICROSOFT-CDO-BUSYSTATUS:FREE
X-MICROSOFT-CDO-INTENDEDSTATUS:FREE
DTSTAMP:20230712T001457Z
CREATED:20230712T001457Z
LAST-MODIFIED:20230712T001457Z
END:VEVENT
BEGIN:VEVENT
UID:events.glasgow.social/lvYDRs6a0jDl
DTSTART:20230804T180000
SEQUENCE:0
TRANSP:OPAQUE
URL:https://events.glasgow.social/2023/08/2600-glasgow-lvYDRs6a0jDl
LOCATION:Bon Accord\, 153 North Street\, Glasgow
SUMMARY:2600 Glasgow
CLASS:PUBLIC
DESCRIPTION:Glasgow 2600 meetings are similar to those held around the worl
 d. Hackers\, crackers\, geeks\, hats of any colour\, technology enthusiast
 s\, hacktivists\, and other like-minded folks are most welcome. We do not 
 judge anyone and everyone has something to contribute\, no matter their le
 vel of expertise.\n\nUnless specified\, there are no particular topics or 
 activities set for these meetings\, and each one of us is responsible for 
 making them interesting\, whether in the form of intelligent discussions o
 r exchange of knowledge. Anything goes.\n\nWe meet on the first Friday of 
 every month at 6pm in The Bon Accord pub\, North Street\, Glasgow\, G3 7DA
 .\n\nhttps://2600glasgow.com/\n\nhttps://events.glasgow.social/2023/08/260
 0-glasgow-lvYDRs6a0jDl
X-MICROSOFT-CDO-BUSYSTATUS:FREE
X-MICROSOFT-CDO-INTENDEDSTATUS:FREE
DTSTAMP:20230711T230844Z
CREATED:20230711T230844Z
LAST-MODIFIED:20230711T230946Z
END:VEVENT
BEGIN:VEVENT
UID:events.glasgow.social/DoTAiWRUKY2b
DTSTART:20230804T180000
SEQUENCE:0
TRANSP:OPAQUE
URL:https://events.glasgow.social/2023/08/tech-meetup-in-the-pub-DoTAiWRUKY
 2b
LOCATION:Bon Accord\, 153 North Street\, Glasgow
SUMMARY:Tech Meetup in the Pub
CLASS:PUBLIC
DESCRIPTION:Just an excuse for a wee Friday night catch up over a beer or t
 wo.\n\nAll welcome\, from complete beginners to the more experienced users
 .\n\nCome learn about what projects we've been working on or new technolog
 y we've been experimenting with.\n\nWe do this regularly on the first Frid
 ay of the month.\n\nhttps://wiki.glasgow.social/tech_meetup\n\nhttps://eve
 nts.glasgow.social/2023/08/tech-meetup-in-the-pub-DoTAiWRUKY2b
X-MICROSOFT-CDO-BUSYSTATUS:FREE
X-MICROSOFT-CDO-INTENDEDSTATUS:FREE
DTSTAMP:20230711T234348Z
CREATED:20230711T234348Z
LAST-MODIFIED:20230711T234348Z
END:VEVENT
BEGIN:VEVENT
UID:events.glasgow.social/XAqMfSWJzRCf
DTSTART:20230727T190000
SEQUENCE:0
TRANSP:OPAQUE
URL:https://events.glasgow.social/2023/07/scottish-linux-users-group-XAqMfS
 WJzRCf
LOCATION:The Electron Club\, 1st Floor\, CCA\, 350 Sauchiehall Street\, Gla
 sgow
SUMMARY:Scottish Linux Users Group
CLASS:PUBLIC
DESCRIPTION:Agenda:\n\n19:00 Meet at the Electron Club\n19:15 Does it reall
 y run Linux?\n19:45 Questions\n20:00 retire to the Henglers Circus\n\n\nht
 tps://www.scotlug.org.uk/\n\nhttps://events.glasgow.social/2023/07/scottis
 h-linux-users-group-XAqMfSWJzRCf
X-MICROSOFT-CDO-BUSYSTATUS:FREE
X-MICROSOFT-CDO-INTENDEDSTATUS:FREE
DTSTAMP:20230711T232946Z
CREATED:20230711T232946Z
LAST-MODIFIED:20230711T232946Z
END:VEVENT
BEGIN:VEVENT
UID:events.glasgow.social/GVunDsx5UXfJ
DTSTART:20230726T193000
SEQUENCE:0
TRANSP:OPAQUE
URL:https://events.glasgow.social/2023/07/hackerspace-makerspace-meetup-GVu
 nDsx5UXfJ
LOCATION:Soulsa Bar\, 87 Glassford Street\, Glasgow
SUMMARY:Hackerspace/Makerspace Meetup
CLASS:PUBLIC
DESCRIPTION:Hi everyone! I’m part of a small group of people interested i
 n making an attempt at opening a 24/7\, member-led hackerspace in Glasgow.
  The plan is to first build a community around this goal (of both organise
 rs and members)\, then possibly move on to meet-ups\, then finally a physi
 cal hackerspace if it’s viable. We’re currently very early in this pro
 cess.\n\nIf this is something that interests you as either a potential mem
 ber or organiser\, please join our discord https://discord.gg/6knVJS9sN an
 d come to the meetup if you can. That’ll be at Soulsa Bar (on Glassford 
 Street) at 7:30pm on Wednesday the 26th of July. See you there!\n\nhttps:/
 /wiki.glasgow.social/2023_hackerspace_meetup\n\nhttps://events.glasgow.soc
 ial/2023/07/hackerspace-makerspace-meetup-GVunDsx5UXfJ
X-MICROSOFT-CDO-BUSYSTATUS:FREE
X-MICROSOFT-CDO-INTENDEDSTATUS:FREE
DTSTAMP:20230711T234220Z
CREATED:20230711T234220Z
LAST-MODIFIED:20230717T091353Z
END:VEVENT
BEGIN:VEVENT
UID:events.glasgow.social/IZ6HNxG1KccO
DTSTART:20230725T180000
SEQUENCE:0
TRANSP:OPAQUE
DTEND:20230725T203000
URL:https://events.glasgow.social/2023/07/python-glasgow-72-machine-learnin
 g-debugging-IZ6HNxG1KccO
LOCATION:Barclays Eagles Lab\, Beco Building\, 58 Kingston Street\, Glasgow
SUMMARY:Python Glasgow 72. Machine-Learning & Debugging
CLASS:PUBLIC
DESCRIPTION:This month's meetup details and engaging speakers are:\n\nDate:
  25/07/2023\nTime: 18:00 - 20:30\n\nVenue: Barclays Eagles Lab - Beco Buil
 ding\, 58 Kingston Street\, Glasgow\, G5 8BP\n\nSpeaker: Daniel van Strien
  (Machine Learning Librarian\, Hugging Face)\nTitle/Topic: How Hugging Fac
 e and Open Source empower developers to leverage state-of-the-art machine 
 learning quickly.\nWebsite: danielvanstrien.xyz | https://huggingface.co/\
 nTwitter: @vanstriendaniel\nPodcast: Capabilities for Coders\n\nSpeaker: G
 abriele Tornetta\nTitle/Topic: Bytecode-based Python Debugging\nGithub: p4
 03n1x87\nLinkedIn: gabriele-tornetta\nTwitter: @p403n1x87\n\nAs spaces are
  limited at this event\, please only confirm your attendance if you are su
 re you can attend.\n\nhttps://www.pythonglasgow.org/\n\nhttps://events.gla
 sgow.social/2023/07/python-glasgow-72-machine-learning-debugging-IZ6HNxG1K
 ccO
X-MICROSOFT-CDO-BUSYSTATUS:FREE
X-MICROSOFT-CDO-INTENDEDSTATUS:FREE
DTSTAMP:20230711T233927Z
CREATED:20230711T233927Z
LAST-MODIFIED:20230711T233927Z
END:VEVENT
BEGIN:VEVENT
UID:events.glasgow.social/ucC2Zw31XEWd
DTSTART:20230720T190000
SEQUENCE:0
TRANSP:OPAQUE
URL:https://events.glasgow.social/2023/07/hack-thursday-ucC2Zw31XEWd
LOCATION:The Rhoderick Dhu\, 21-23 Waterloo Street\, Glasgow
SUMMARY:Hack Thursday
CLASS:PUBLIC
DESCRIPTION:T﻿he Council of Very Nice People\, politely (but firmly) requ
 est your presence to share information\, beverages and food.\n\nT﻿his ev
 ent welcomes everyone no matter your background or experience\, this event
  looks to bring together anyone that has an interested in cyber security a
 nd doing good - if you don't know anyone that is going - don't worry - by 
 then end of the event we guarantee new friends...\n\nD﻿oors open from 6p
 m\, for food and drinks.\n\n7﻿.30pm - Event Starts\n\nI﻿ntro\n\nT﻿al
 k 1 (approx 20 minutes)\n\nT﻿alk 2 (approx 20 minutes)\n\nT﻿he Council
  of Really Nice People : a live panel - random members of the audience are
  invited to be panel members to discuss recent security news and hot topic
 s\n\nSlideshow Roulette - Donated slides from communities\, sponsors and e
 vil geniuses - again its audience participation - dare you get up and cove
 r two random slides?\n\nT﻿he Last Gasp\n\nIt's the overrun\, it's the ch
 at\, it might be a quiz - it's community\n\nhttps://hackthurs.day/\n\nhttp
 s://events.glasgow.social/2023/07/hack-thursday-ucC2Zw31XEWd
X-MICROSOFT-CDO-BUSYSTATUS:FREE
X-MICROSOFT-CDO-INTENDEDSTATUS:FREE
DTSTAMP:20230711T231427Z
CREATED:20230711T231427Z
LAST-MODIFIED:20230711T231427Z
END:VEVENT
END:VCALENDAR