BEGIN:VCALENDAR
VERSION:2.0
PRODID:events.glasgow.social transport
BEGIN:VEVENT
UID:events.glasgow.social/kjWVVHq0h1nE
DTSTART:20230903T110000
SEQUENCE:0
TRANSP:OPAQUE
DTEND:20230903T163000
URL:https://events.glasgow.social/2023/09/glasgow-vintage-vehicle-trust-ope
 n-sunday-kjWVVHq0h1nE
LOCATION:Bridgeton Bus Garage
SUMMARY:Glasgow Vintage Vehicle Trust - Open Sunday
CLASS:PUBLIC
DESCRIPTION:The GVVT is pleased to open our home\, Bridgeton Bus Garage\, t
 o the public on the first Sunday of April\, May June\, July\, August* &amp
 \; September 2023. Our Open Sunday events allow you to explore the Garage 
 and see our 140 buses\, coaches\, fire engines and commercial vehicles\, m
 any of which are fully restored and operational\, with other awaiting or u
 nder restoration. *Our August event is sneaking in a little early on 30th 
 July!\n\nWe are Open from 1100-1630 on the following Sundays:\n\nSun 30 Ju
 ly – Family &amp\; Community Fun Day\, some of our visiting attractions 
 are listed below\n\nFalkirk Veteran Cycle Club\nAmerican cars\nScottish Fi
 re Rescue Heritage Trust\nPolice\nScottish Fire &amp\; Rescue\nBus Operato
 rs First TBC\nBus Operators McGills\nUnwanted Scooter Club\nMichael Brawle
 y Big Band\nFace Painting\nBalloon Animals TBC\nREME\nCommunity Safety Gla
 sgow TBC\nCeramic Bus Painting\nBack on the Road\nGVVT Archive\nModel Bus 
 Federation\nSAMH\nWestern Desert Recce Group\n501st Imperial Scottish Garr
 ison (Star Wars)\nDave Herron\, model bus sales\nLanarkshire Car Club?\nBo
 b Wright – Fire engine\n\n\nhttps://gvvt.org/open-sundays\n\nhttps://eve
 nts.glasgow.social/2023/09/glasgow-vintage-vehicle-trust-open-sunday-kjWVV
 Hq0h1nE
X-MICROSOFT-CDO-BUSYSTATUS:FREE
X-MICROSOFT-CDO-INTENDEDSTATUS:FREE
DTSTAMP:20230730T000618Z
CREATED:20230730T000618Z
LAST-MODIFIED:20230730T000618Z
END:VEVENT
END:VCALENDAR